View In:
ArcGIS JavaScript
ArcGIS Online Map Viewer
ArcGIS Earth
ArcGIS Pro
Service Description:
Map Name: GRHQ_HR_WMS
Legend
All Layers and Tables
Dynamic Legend
Dynamic All Layers
Layers:
Description: Le service web de la Géobase du réseau hydrographique du Québec à haute résolution (GRHQ-HR) permet de consulter les données géométriques et descriptives de la GRHQ-HR directement à partir d'applications compatibles avec les services web géospatiaux.La GRHQ-HR est un référentiel hydrographique du Québec méridional produit à partir d'une modélisation hydrologique réalisée à l'aide de données lidar. Elle regroupe un ensemble de données décrivant les composantes hydrographiques du territoire ainsi que des informations hydrologiques permettant notamment de caractériser la connectivité, la hiérarchisation et le fonctionnement du réseau hydrographique.La diffusion de la GRHQ-HR est réalisée progressivement par niveaux de complétude (NC-1 à NC-4). Chaque niveau de complétude caractérise le niveau de travail d'édition, de validation et de contenu descriptif des données diffusées.Le service est offert selon les protocoles WMS et REST afin de permettre la consultation, l'intégration et l'exploitation des données diffusées les plus récentes dans les principaux logiciels et applications géomatiques.
Copyright Text: Gouvernement du Québec. Ministère de l’Environnement, de la Lutte contre les changements climatiques, de la Faune et des Parcs (MELCCFP)
Direction de la connaissance écologique (DCE) Ministère des Ressources naturelles et des Forêts (MRNF)
Direction de la référence géographique du Québec (DRGQ)
et
Direction des inventaires forestiers (DIF).
Spatial Reference:
6622
(6622)
LatestVCSWkid(0)
Single Fused Map Cache: true
Tile Info:
- Height: 256.0
- Width: 256.0
- DPI: 96.0
-
Levels of Detail: 19
-
Level ID: 0
[ Start Tile, End Tile ]
- Resolution: 278776.30843453424
- Scale: 1.0536427405399718E9
-
Level ID: 1
[ Start Tile, End Tile ]
- Resolution: 139388.15421726712
- Scale: 5.268213702699859E8
-
Level ID: 2
[ Start Tile, End Tile ]
- Resolution: 69694.07710863356
- Scale: 2.6341068513499296E8
-
Level ID: 3
[ Start Tile, End Tile ]
- Resolution: 34847.03855431678
- Scale: 1.3170534256749648E8
-
Level ID: 4
[ Start Tile, End Tile ]
- Resolution: 17423.51927715839
- Scale: 6.585267128374824E7
-
Level ID: 5
[ Start Tile, End Tile ]
- Resolution: 8711.759638579195
- Scale: 3.292633564187412E7
-
Level ID: 6
[ Start Tile, End Tile ]
- Resolution: 4355.879819289597
- Scale: 1.646316782093706E7
-
Level ID: 7
[ Start Tile, End Tile ]
- Resolution: 2177.9399096447987
- Scale: 8231583.91046853
-
Level ID: 8
[ Start Tile, End Tile ]
- Resolution: 1088.9699548223994
- Scale: 4115791.955234265
-
Level ID: 9
[ Start Tile, End Tile ]
- Resolution: 544.4849774111997
- Scale: 2057895.9776171325
-
Level ID: 10
[ Start Tile, End Tile ]
- Resolution: 272.24248870559984
- Scale: 1028947.9888085662
-
Level ID: 11
[ Start Tile, End Tile ]
- Resolution: 136.12124435279992
- Scale: 514473.9944042831
-
Level ID: 12
[ Start Tile, End Tile ]
- Resolution: 68.06062217639996
- Scale: 257236.99720214156
-
Level ID: 13
[ Start Tile, End Tile ]
- Resolution: 34.03031108819998
- Scale: 128618.49860107078
-
Level ID: 14
[ Start Tile, End Tile ]
- Resolution: 17.01515554409999
- Scale: 64309.24930053539
-
Level ID: 15
[ Start Tile, End Tile ]
- Resolution: 8.507577772049995
- Scale: 32154.624650267695
-
Level ID: 16
[ Start Tile, End Tile ]
- Resolution: 4.2537888860249975
- Scale: 16077.312325133847
-
Level ID: 17
[ Start Tile, End Tile ]
- Resolution: 2.1268944430124987
- Scale: 8038.656162566924
-
Level ID: 18
[ Start Tile, End Tile ]
- Resolution: 1.0634472215062494
- Scale: 4019.328081283462
- Format: PNG
- Compression Quality: 0.0
- Origin: X: -3.568336747962038E7
Y: 3.806388879278162E7
- Spatial Reference: 6622
(6622)
LatestVCSWkid(0)
Storage Info:
- Storage Format: esriMapCacheStorageModeCompactV2
- Packet Size: 128
Initial Extent:
XMin: -734099.1092509461
YMin: 420832.0286894241
XMax: -683532.9488704171
YMax: 453068.96082391083
Spatial Reference: 6622
(6622)
LatestVCSWkid(0)
Full Extent:
XMin: -824126.0
YMin: 72507.0
XMax: -90757.0
YMax: 862014.0
Spatial Reference: 6622
(6622)
LatestVCSWkid(0)
Units: esriMeters
Supported Image Format Types: PNG32,PNG24,PNG,JPG,DIB,TIFF,EMF,PS,PDF,GIF,SVG,SVGZ,BMP
Document Info:
Title: GRHQ_HR
Author:
Comments: Le service web de la Géobase du réseau hydrographique du Québec à haute résolution (GRHQ-HR) permet de consulter les données géométriques et descriptives de la GRHQ-HR directement à partir d'applications compatibles avec les services web géospatiaux.La GRHQ-HR est un référentiel hydrographique du Québec méridional produit à partir d'une modélisation hydrologique réalisée à l'aide de données lidar. Elle regroupe un ensemble de données décrivant les composantes hydrographiques du territoire ainsi que des informations hydrologiques permettant notamment de caractériser la connectivité, la hiérarchisation et le fonctionnement du réseau hydrographique.La diffusion de la GRHQ-HR est réalisée progressivement par niveaux de complétude (NC-1 à NC-4). Chaque niveau de complétude caractérise le niveau de travail d'édition, de validation et de contenu descriptif des données diffusées.Le service est offert selon les protocoles WMS et REST afin de permettre la consultation, l'intégration et l'exploitation des données diffusées les plus récentes dans les principaux logiciels et applications géomatiques.
Subject: Service web donnant accès à la Géobase du réseau hydrographique du Québec à haute résolution (GRHQ-HR). Ce référentiel hydrographique intègre des informations hydrologiques issues d'une modélisation réalisée à partir de données lidar.
Category:
Keywords: Hydrographie
AntialiasingMode: Fast
TextAntialiasingMode: Force
Supports Dynamic Layers: true
Resampling: false
MaxRecordCount: 2000
MaxSelectionCount: 2000
MaxImageHeight: 4096
MaxImageWidth: 4096
Supported Query Formats: JSON, geoJSON, PBF
Supports Query Data Elements: true
Min Scale: 8231583.91046853
Max Scale: 4019.328081283462
Max LOD: 18
Supports Datum Transformation: true
Child Resources:
Info
Dynamic Layer
Supported Operations:
Export Map
Identify
QueryLegends
QueryDomains
Find
Return Updates