{
 "currentVersion": 11.5,
 "cimVersion": "3.5.0",
 "serviceDescription": "",
 "mapName": "GRHQ_HR_WMS",
 "description": "Le service web de la Géobase du réseau hydrographique du Québec à haute résolution (GRHQ-HR) permet de consulter les données géométriques et descriptives de la GRHQ-HR directement à partir d'applications compatibles avec les services web géospatiaux.La GRHQ-HR est un référentiel hydrographique du Québec méridional produit à partir d'une modélisation hydrologique réalisée à l'aide de données lidar. Elle regroupe un ensemble de données décrivant les composantes hydrographiques du territoire ainsi que des informations hydrologiques permettant notamment de caractériser la connectivité, la hiérarchisation et le fonctionnement du réseau hydrographique.La diffusion de la GRHQ-HR est réalisée progressivement par niveaux de complétude (NC-1 à NC-4). Chaque niveau de complétude caractérise le niveau de travail d'édition, de validation et de contenu descriptif des données diffusées.Le service est offert selon les protocoles WMS et REST afin de permettre la consultation, l'intégration et l'exploitation des données diffusées les plus récentes dans les principaux logiciels et applications géomatiques.",
 "copyrightText": "Gouvernement du Québec. \nMinistère de l\u2019Environnement, de la Lutte contre les changements climatiques, de la Faune et des Parcs (MELCCFP)\nDirection de la connaissance écologique (DCE) \n \nMinistère des Ressources naturelles et des Forêts (MRNF)\nDirection de la référence géographique du Québec (DRGQ)\net\nDirection des inventaires forestiers (DIF).",
 "supportsDynamicLayers": true,
 "layers": [
  {
   "id": 0,
   "name": "Hydrographie linéaire",
   "parentLayerId": -1,
   "defaultVisibility": true,
   "subLayerIds": null,
   "minScale": 10000000,
   "maxScale": 0,
   "type": "Feature Layer",
   "geometryType": "esriGeometryPolyline",
   "supportsDynamicLegends": true
  },
  {
   "id": 1,
   "name": "Hydrographie surfacique",
   "parentLayerId": -1,
   "defaultVisibility": true,
   "subLayerIds": null,
   "minScale": 10000000,
   "maxScale": 0,
   "type": "Feature Layer",
   "geometryType": "esriGeometryPolygon",
   "supportsDynamicLegends": true
  },
  {
   "id": 2,
   "name": "Sous-unités de découpage",
   "parentLayerId": -1,
   "defaultVisibility": false,
   "subLayerIds": null,
   "minScale": 10000000,
   "maxScale": 0,
   "type": "Feature Layer",
   "geometryType": "esriGeometryPolygon",
   "supportsDynamicLegends": true
  },
  {
   "id": 3,
   "name": "Unités de découpage",
   "parentLayerId": -1,
   "defaultVisibility": false,
   "subLayerIds": null,
   "minScale": 10000000,
   "maxScale": 0,
   "type": "Feature Layer",
   "geometryType": "esriGeometryPolygon",
   "supportsDynamicLegends": true
  }
 ],
 "tables": [],
 "spatialReference": {
  "wkid": 6622,
  "latestWkid": 6622,
  "xyTolerance": 0.001,
  "zTolerance": 0.001,
  "mTolerance": 0.001,
  "falseX": -35683500,
  "falseY": -29917500,
  "xyUnits": 10000,
  "falseZ": -100000,
  "zUnits": 10000,
  "falseM": -100000,
  "mUnits": 10000
 },
 "singleFusedMapCache": true,
 "tileInfo": {
  "rows": 256,
  "cols": 256,
  "dpi": 96,
  "format": "PNG",
  "compressionQuality": 0,
  "origin": {
   "x": -3.568336747962038E7,
   "y": 3.806388879278162E7
  },
  "spatialReference": {
   "wkid": 6622,
   "latestWkid": 6622,
   "xyTolerance": 0.001,
   "zTolerance": 0.001,
   "mTolerance": 0.001,
   "falseX": -35683500,
   "falseY": -29917500,
   "xyUnits": 10000,
   "falseZ": -100000,
   "zUnits": 10000,
   "falseM": -100000,
   "mUnits": 10000
  },
  "lods": [
   {
    "level": 0,
    "resolution": 278776.30843453424,
    "scale": 1.0536427405399718E9
   },
   {
    "level": 1,
    "resolution": 139388.15421726712,
    "scale": 5.268213702699859E8
   },
   {
    "level": 2,
    "resolution": 69694.07710863356,
    "scale": 2.6341068513499296E8
   },
   {
    "level": 3,
    "resolution": 34847.03855431678,
    "scale": 1.3170534256749648E8
   },
   {
    "level": 4,
    "resolution": 17423.51927715839,
    "scale": 6.585267128374824E7
   },
   {
    "level": 5,
    "resolution": 8711.759638579195,
    "scale": 3.292633564187412E7
   },
   {
    "level": 6,
    "resolution": 4355.879819289597,
    "scale": 1.646316782093706E7
   },
   {
    "level": 7,
    "resolution": 2177.9399096447987,
    "scale": 8231583.91046853
   },
   {
    "level": 8,
    "resolution": 1088.9699548223994,
    "scale": 4115791.955234265
   },
   {
    "level": 9,
    "resolution": 544.4849774111997,
    "scale": 2057895.9776171325
   },
   {
    "level": 10,
    "resolution": 272.24248870559984,
    "scale": 1028947.9888085662
   },
   {
    "level": 11,
    "resolution": 136.12124435279992,
    "scale": 514473.9944042831
   },
   {
    "level": 12,
    "resolution": 68.06062217639996,
    "scale": 257236.99720214156
   },
   {
    "level": 13,
    "resolution": 34.03031108819998,
    "scale": 128618.49860107078
   },
   {
    "level": 14,
    "resolution": 17.01515554409999,
    "scale": 64309.24930053539
   },
   {
    "level": 15,
    "resolution": 8.507577772049995,
    "scale": 32154.624650267695
   },
   {
    "level": 16,
    "resolution": 4.2537888860249975,
    "scale": 16077.312325133847
   },
   {
    "level": 17,
    "resolution": 2.1268944430124987,
    "scale": 8038.656162566924
   },
   {
    "level": 18,
    "resolution": 1.0634472215062494,
    "scale": 4019.328081283462
   }
  ]
 },
 "storageInfo": {
  "storageFormat": "esriMapCacheStorageModeCompactV2",
  "packetSize": 128
 },
 "initialExtent": {
  "xmin": -734099.1092509461,
  "ymin": 420832.0286894241,
  "xmax": -683532.9488704171,
  "ymax": 453068.96082391083,
  "spatialReference": {
   "wkid": 6622,
   "latestWkid": 6622,
   "xyTolerance": 0.001,
   "zTolerance": 0.001,
   "mTolerance": 0.001,
   "falseX": -35683500,
   "falseY": -29917500,
   "xyUnits": 10000,
   "falseZ": -100000,
   "zUnits": 10000,
   "falseM": -100000,
   "mUnits": 10000
  }
 },
 "fullExtent": {
  "xmin": -824126,
  "ymin": 72507,
  "xmax": -90757,
  "ymax": 862014,
  "zmin": -79.45089999999618,
  "zmax": 1136.849000000002,
  "spatialReference": {
   "wkid": 6622,
   "latestWkid": 6622,
   "xyTolerance": 0.001,
   "zTolerance": 0.001,
   "mTolerance": 0.001,
   "falseX": -35683500,
   "falseY": -29917500,
   "xyUnits": 10000,
   "falseZ": -100000,
   "zUnits": 10000,
   "falseM": -100000,
   "mUnits": 10000
  }
 },
 "datesInUnknownTimezone": false,
 "minScale": 8231583.91046853,
 "maxScale": 4019.328081283462,
 "maxLOD": 18,
 "units": "esriMeters",
 "supportedImageFormatTypes": "PNG32,PNG24,PNG,JPG,DIB,TIFF,EMF,PS,PDF,GIF,SVG,SVGZ,BMP",
 "documentInfo": {
  "Title": "GRHQ_HR",
  "Author": "",
  "Comments": "Le service web de la Géobase du réseau hydrographique du Québec à haute résolution (GRHQ-HR) permet de consulter les données géométriques et descriptives de la GRHQ-HR directement à partir d'applications compatibles avec les services web géospatiaux.La GRHQ-HR est un référentiel hydrographique du Québec méridional produit à partir d'une modélisation hydrologique réalisée à l'aide de données lidar. Elle regroupe un ensemble de données décrivant les composantes hydrographiques du territoire ainsi que des informations hydrologiques permettant notamment de caractériser la connectivité, la hiérarchisation et le fonctionnement du réseau hydrographique.La diffusion de la GRHQ-HR est réalisée progressivement par niveaux de complétude (NC-1 à NC-4). Chaque niveau de complétude caractérise le niveau de travail d'édition, de validation et de contenu descriptif des données diffusées.Le service est offert selon les protocoles WMS et REST afin de permettre la consultation, l'intégration et l'exploitation des données diffusées les plus récentes dans les principaux logiciels et applications géomatiques.",
  "Subject": "Service web donnant accès à la Géobase du réseau hydrographique du Québec à haute résolution (GRHQ-HR). Ce référentiel hydrographique intègre des informations hydrologiques issues d'une modélisation réalisée à partir de données lidar.",
  "Category": "",
  "Version": "3.4.0",
  "AntialiasingMode": "Fast",
  "TextAntialiasingMode": "Force",
  "Keywords": "Hydrographie"
 },
 "supportsQueryDomains": true,
 "capabilities": "Map,Query,Data,TileMap",
 "supportedQueryFormats": "JSON, geoJSON, PBF",
 "exportTilesAllowed": false,
 "referenceScale": 0.0,
 "datumTransformations": [
  {
   "geoTransforms": [
    {
     "wkid": 108190,
     "latestWkid": 108190,
     "transformForward": true,
     "name": "WGS_1984_(ITRF00)_To_NAD_1983"
    }
   ]
  },
  {
   "geoTransforms": [
    {
     "wkid": 108190,
     "latestWkid": 108190,
     "transformForward": false,
     "name": "WGS_1984_(ITRF00)_To_NAD_1983"
    }
   ]
  }
 ],
 "supportsDatumTransformation": true,
 "floorAwareMapProperties": {
  "defaultFloorFilterSettings": {
   "isEnabled": false
  }
 },
 "archivingInfo": {
  "supportsHistoricMoment": false
 },
 "supportsClipping": true,
 "supportsSpatialFilter": true,
 "supportsTimeRelation": true,
 "supportsQueryDataElements": true,
 "mapUnits": {
  "uwkid": 9001
 },
 "maxSelectionCount": 2000,
 "maxRecordCount": 2000,
 "maxImageHeight": 4096,
 "maxImageWidth": 4096,
 "supportedExtensions": "WMSServer",
 "resampling": false
}
