<?xml version="1.0" encoding="UTF-8"?>
<Capabilities xmlns="http://www.opengis.net/wmts/1.0"
xmlns:ows="http://www.opengis.net/ows/1.1"
xmlns:xlink="http://www.w3.org/1999/xlink"
xmlns:xsi="http://www.w3.org/2001/XMLSchema-instance"
xmlns:gml="http://www.opengis.net/gml"
xsi:schemaLocation="http://www.opengis.net/wmts/1.0 http://schemas.opengis.net/wmts/1.0/wmtsGetCapabilities_response.xsd"
version="1.0.0">
<!-- Service Identification --> <ows:ServiceIdentification>
<ows:Title>Territoire_GRHQ_HR_WMS</ows:Title>
<ows:ServiceType>OGC WMTS</ows:ServiceType>
<ows:ServiceTypeVersion>1.0.0</ows:ServiceTypeVersion>
</ows:ServiceIdentification> <!-- Operations Metadata --> <ows:OperationsMetadata>
<ows:Operation name="GetCapabilities">
<ows:DCP>
<ows:HTTP>
<ows:Get xlink:href="https://servicescarto.mffp.gouv.qc.ca/pes/rest/services/Territoire/GRHQ_HR_WMS/MapServer/WMTS/1.0.0/WMTSCapabilities.xml">
<ows:Constraint name="GetEncoding">
<ows:AllowedValues>
<ows:Value>RESTful</ows:Value>
</ows:AllowedValues>
</ows:Constraint>
</ows:Get>
<!-- add KVP binding in 10.1 -->
<ows:Get xlink:href="https://servicescarto.mffp.gouv.qc.ca/pes/rest/services/Territoire/GRHQ_HR_WMS/MapServer/WMTS?">
<ows:Constraint name="GetEncoding">
<ows:AllowedValues>
<ows:Value>KVP</ows:Value>
</ows:AllowedValues>
</ows:Constraint>
</ows:Get>
</ows:HTTP>
</ows:DCP>
</ows:Operation>
<ows:Operation name="GetTile">
<ows:DCP>
<ows:HTTP>
<ows:Get xlink:href="https://servicescarto.mffp.gouv.qc.ca/pes/rest/services/Territoire/GRHQ_HR_WMS/MapServer/WMTS/tile/1.0.0/">
<ows:Constraint name="GetEncoding">
<ows:AllowedValues>
<ows:Value>RESTful</ows:Value>
</ows:AllowedValues>
</ows:Constraint>
</ows:Get>
<ows:Get xlink:href="https://servicescarto.mffp.gouv.qc.ca/pes/rest/services/Territoire/GRHQ_HR_WMS/MapServer/WMTS?">
<ows:Constraint name="GetEncoding">
<ows:AllowedValues>
<ows:Value>KVP</ows:Value>
</ows:AllowedValues>
</ows:Constraint>
</ows:Get>
</ows:HTTP>
</ows:DCP>
</ows:Operation>
</ows:OperationsMetadata> <Contents>
<!--Layer--> <Layer>
<ows:Title>Territoire_GRHQ_HR_WMS</ows:Title> <ows:Identifier>Territoire_GRHQ_HR_WMS</ows:Identifier>
<ows:BoundingBox crs="urn:ogc:def:crs:EPSG::6622">
<ows:LowerCorner>-824126.0 72507.0</ows:LowerCorner>
<ows:UpperCorner>-90757.0 862014.0</ows:UpperCorner>
</ows:BoundingBox> <ows:WGS84BoundingBox crs="urn:ogc:def:crs:OGC:2:84">
<ows:LowerCorner>-80.41441976805649 44.1180095026909</ows:LowerCorner>
<ows:UpperCorner>-69.64059803731506 51.765879042894376</ows:UpperCorner>
</ows:WGS84BoundingBox>
<Style isDefault="true">
<ows:Title>Default Style</ows:Title>
<ows:Identifier>default</ows:Identifier>
</Style>
<Format>image/png</Format>
<TileMatrixSetLink>
<TileMatrixSet>default028mm</TileMatrixSet>
</TileMatrixSetLink>
<ResourceURL format="image/png" resourceType="tile" template="https://servicescarto.mffp.gouv.qc.ca/pes/rest/services/Territoire/GRHQ_HR_WMS/MapServer/WMTS/tile/1.0.0/Territoire_GRHQ_HR_WMS/{Style}/{TileMatrixSet}/{TileMatrix}/{TileRow}/{TileCol}.png" />
</Layer> <!--TileMatrixSet-->
<TileMatrixSet>
<ows:Title>TileMatrix using 0.28mm</ows:Title>
<ows:Abstract>The tile matrix set that has scale values calculated based on the dpi defined by OGC specification (dpi assumes 0.28mm as the physical distance of a pixel).</ows:Abstract> <ows:Identifier>default028mm</ows:Identifier>
<ows:SupportedCRS>urn:ogc:def:crs:EPSG::6622</ows:SupportedCRS>
<TileMatrix>
<ows:Identifier>0</ows:Identifier>
<ScaleDenominator>9.956296729803542E8</ScaleDenominator>
<TopLeftCorner>-3.568336747962038E7 3.806388879278162E7</TopLeftCorner> <TileWidth>256</TileWidth> <TileHeight>256</TileHeight>
<MatrixWidth>1</MatrixWidth> <MatrixHeight>1</MatrixHeight>
</TileMatrix>
<TileMatrix>
<ows:Identifier>1</ows:Identifier>
<ScaleDenominator>4.978148364901771E8</ScaleDenominator>
<TopLeftCorner>-3.568336747962038E7 3.806388879278162E7</TopLeftCorner> <TileWidth>256</TileWidth> <TileHeight>256</TileHeight>
<MatrixWidth>1</MatrixWidth> <MatrixHeight>2</MatrixHeight>
</TileMatrix>
<TileMatrix>
<ows:Identifier>2</ows:Identifier>
<ScaleDenominator>2.4890741824508855E8</ScaleDenominator>
<TopLeftCorner>-3.568336747962038E7 3.806388879278162E7</TopLeftCorner> <TileWidth>256</TileWidth> <TileHeight>256</TileHeight>
<MatrixWidth>2</MatrixWidth> <MatrixHeight>3</MatrixHeight>
</TileMatrix>
<TileMatrix>
<ows:Identifier>3</ows:Identifier>
<ScaleDenominator>1.2445370912254427E8</ScaleDenominator>
<TopLeftCorner>-3.568336747962038E7 3.806388879278162E7</TopLeftCorner> <TileWidth>256</TileWidth> <TileHeight>256</TileHeight>
<MatrixWidth>4</MatrixWidth> <MatrixHeight>5</MatrixHeight>
</TileMatrix>
<TileMatrix>
<ows:Identifier>4</ows:Identifier>
<ScaleDenominator>6.222685456127214E7</ScaleDenominator>
<TopLeftCorner>-3.568336747962038E7 3.806388879278162E7</TopLeftCorner> <TileWidth>256</TileWidth> <TileHeight>256</TileHeight>
<MatrixWidth>8</MatrixWidth> <MatrixHeight>9</MatrixHeight>
</TileMatrix>
<TileMatrix>
<ows:Identifier>5</ows:Identifier>
<ScaleDenominator>3.111342728063607E7</ScaleDenominator>
<TopLeftCorner>-3.568336747962038E7 3.806388879278162E7</TopLeftCorner> <TileWidth>256</TileWidth> <TileHeight>256</TileHeight>
<MatrixWidth>16</MatrixWidth> <MatrixHeight>18</MatrixHeight>
</TileMatrix>
<TileMatrix>
<ows:Identifier>6</ows:Identifier>
<ScaleDenominator>1.5556713640318034E7</ScaleDenominator>
<TopLeftCorner>-3.568336747962038E7 3.806388879278162E7</TopLeftCorner> <TileWidth>256</TileWidth> <TileHeight>256</TileHeight>
<MatrixWidth>32</MatrixWidth> <MatrixHeight>35</MatrixHeight>
</TileMatrix>
<TileMatrix>
<ows:Identifier>7</ows:Identifier>
<ScaleDenominator>7778356.820159017</ScaleDenominator>
<TopLeftCorner>-3.568336747962038E7 3.806388879278162E7</TopLeftCorner> <TileWidth>256</TileWidth> <TileHeight>256</TileHeight>
<MatrixWidth>64</MatrixWidth> <MatrixHeight>69</MatrixHeight>
</TileMatrix>
<TileMatrix>
<ows:Identifier>8</ows:Identifier>
<ScaleDenominator>3889178.4100795086</ScaleDenominator>
<TopLeftCorner>-3.568336747962038E7 3.806388879278162E7</TopLeftCorner> <TileWidth>256</TileWidth> <TileHeight>256</TileHeight>
<MatrixWidth>128</MatrixWidth> <MatrixHeight>137</MatrixHeight>
</TileMatrix>
<TileMatrix>
<ows:Identifier>9</ows:Identifier>
<ScaleDenominator>1944589.2050397543</ScaleDenominator>
<TopLeftCorner>-3.568336747962038E7 3.806388879278162E7</TopLeftCorner> <TileWidth>256</TileWidth> <TileHeight>256</TileHeight>
<MatrixWidth>256</MatrixWidth> <MatrixHeight>273</MatrixHeight>
</TileMatrix>
<TileMatrix>
<ows:Identifier>10</ows:Identifier>
<ScaleDenominator>972294.6025198771</ScaleDenominator>
<TopLeftCorner>-3.568336747962038E7 3.806388879278162E7</TopLeftCorner> <TileWidth>256</TileWidth> <TileHeight>256</TileHeight>
<MatrixWidth>511</MatrixWidth> <MatrixHeight>546</MatrixHeight>
</TileMatrix>
<TileMatrix>
<ows:Identifier>11</ows:Identifier>
<ScaleDenominator>486147.30125993857</ScaleDenominator>
<TopLeftCorner>-3.568336747962038E7 3.806388879278162E7</TopLeftCorner> <TileWidth>256</TileWidth> <TileHeight>256</TileHeight>
<MatrixWidth>1022</MatrixWidth> <MatrixHeight>1091</MatrixHeight>
</TileMatrix>
<TileMatrix>
<ows:Identifier>12</ows:Identifier>
<ScaleDenominator>243073.65062996928</ScaleDenominator>
<TopLeftCorner>-3.568336747962038E7 3.806388879278162E7</TopLeftCorner> <TileWidth>256</TileWidth> <TileHeight>256</TileHeight>
<MatrixWidth>2043</MatrixWidth> <MatrixHeight>2181</MatrixHeight>
</TileMatrix>
<TileMatrix>
<ows:Identifier>13</ows:Identifier>
<ScaleDenominator>121536.82531498464</ScaleDenominator>
<TopLeftCorner>-3.568336747962038E7 3.806388879278162E7</TopLeftCorner> <TileWidth>256</TileWidth> <TileHeight>256</TileHeight>
<MatrixWidth>4086</MatrixWidth> <MatrixHeight>4361</MatrixHeight>
</TileMatrix>
<TileMatrix>
<ows:Identifier>14</ows:Identifier>
<ScaleDenominator>60768.41265749232</ScaleDenominator>
<TopLeftCorner>-3.568336747962038E7 3.806388879278162E7</TopLeftCorner> <TileWidth>256</TileWidth> <TileHeight>256</TileHeight>
<MatrixWidth>8172</MatrixWidth> <MatrixHeight>8722</MatrixHeight>
</TileMatrix>
<TileMatrix>
<ows:Identifier>15</ows:Identifier>
<ScaleDenominator>30384.20632874616</ScaleDenominator>
<TopLeftCorner>-3.568336747962038E7 3.806388879278162E7</TopLeftCorner> <TileWidth>256</TileWidth> <TileHeight>256</TileHeight>
<MatrixWidth>16343</MatrixWidth> <MatrixHeight>17444</MatrixHeight>
</TileMatrix>
<TileMatrix>
<ows:Identifier>16</ows:Identifier>
<ScaleDenominator>15192.10316437308</ScaleDenominator>
<TopLeftCorner>-3.568336747962038E7 3.806388879278162E7</TopLeftCorner> <TileWidth>256</TileWidth> <TileHeight>256</TileHeight>
<MatrixWidth>32685</MatrixWidth> <MatrixHeight>34888</MatrixHeight>
</TileMatrix>
<TileMatrix>
<ows:Identifier>17</ows:Identifier>
<ScaleDenominator>7596.05158218654</ScaleDenominator>
<TopLeftCorner>-3.568336747962038E7 3.806388879278162E7</TopLeftCorner> <TileWidth>256</TileWidth> <TileHeight>256</TileHeight>
<MatrixWidth>65370</MatrixWidth> <MatrixHeight>69775</MatrixHeight>
</TileMatrix>
<TileMatrix>
<ows:Identifier>18</ows:Identifier>
<ScaleDenominator>3798.02579109327</ScaleDenominator>
<TopLeftCorner>-3.568336747962038E7 3.806388879278162E7</TopLeftCorner> <TileWidth>256</TileWidth> <TileHeight>256</TileHeight>
<MatrixWidth>130739</MatrixWidth> <MatrixHeight>139550</MatrixHeight>
</TileMatrix>
</TileMatrixSet>
</Contents>
<ServiceMetadataURL xlink:href="https://servicescarto.mffp.gouv.qc.ca/pes/rest/services/Territoire/GRHQ_HR_WMS/MapServer/WMTS/1.0.0/WMTSCapabilities.xml" /> </Capabilities>
